BEGIN:VCALENDAR
VERSION:2.0
PRODID:-//Studium Generale Universiteit Utrecht//NONSGML sg.uu.nl//
METHOD:PUBLISH
CALSCALE:GREGORIAN
BEGIN:VEVENT
UID:event004093@sg.uu.nl
DTSTART;TZID=UTC;VALUE=DATE-TIME:20200212T190000
DTEND;TZID=UTC;VALUE=DATE-TIME:20200212T203000
SUMMARY:Studium Generale: Vechten tegen de tabaksindustrie
DTSTAMP:20250717T091222Z
LAST-MODIFIED:20250717T091222Z
LOCATION:Academiegebouw (Aula)
DESCRIPTION:Kun je als arts op tegen een industrie met een miljoenenlobby?
URL;TYPE=URI:https://www.sg.uu.nl/agenda/2020/vechten-tegen-de-tabaksindustrie
END:VEVENT
END:VCALENDAR