BEGIN:VCALENDAR
VERSION:2.0
PRODID:-//Studium Generale Universiteit Utrecht//NONSGML sg.uu.nl//
METHOD:PUBLISH
CALSCALE:GREGORIAN
BEGIN:VEVENT
UID:event004107@sg.uu.nl
DTSTART;TZID=UTC;VALUE=DATE-TIME:20161030T113000
DTEND;TZID=UTC;VALUE=DATE-TIME:20161030T123000
SUMMARY:Studium Generale: Waar is de winst?
DTSTAMP:20250717T091223Z
LAST-MODIFIED:20250717T091223Z
LOCATION:Winkel van Sinkel
DESCRIPTION:Van Tony Chocolonely tot oma&#039;s uit de buurt: Kunnen start-ups echt grote sociale impact te hebben?
URL;TYPE=URI:https://www.sg.uu.nl/agenda/2016/waar-de-winst
END:VEVENT
END:VCALENDAR