BEGIN:VCALENDAR
VERSION:2.0
PRODID:-//Studium Generale Universiteit Utrecht//NONSGML sg.uu.nl//
METHOD:PUBLISH
CALSCALE:GREGORIAN
BEGIN:VEVENT
UID:event004123@sg.uu.nl
DTSTART;TZID=UTC;VALUE=DATE-TIME:20170905T160000
DTEND;TZID=UTC;VALUE=DATE-TIME:20170905T173000
SUMMARY:Studium Generale: Wat bindt Europa?
DTSTAMP:20250718T071931Z
LAST-MODIFIED:20250718T071931Z
LOCATION:Academiegebouw (Aula)
DESCRIPTION:Overleeft Europa de 21e eeuw?
URL;TYPE=URI:https://www.sg.uu.nl/agenda/2017/wat-bindt-europa
END:VEVENT
END:VCALENDAR