BEGIN:VCALENDAR
VERSION:2.0
PRODID:-//Studium Generale Universiteit Utrecht//NONSGML sg.uu.nl//
METHOD:PUBLISH
CALSCALE:GREGORIAN
BEGIN:VEVENT
UID:event004126@sg.uu.nl
DTSTART;TZID=UTC;VALUE=DATE-TIME:20171003T160000
DTEND;TZID=UTC;VALUE=DATE-TIME:20171003T173000
SUMMARY:Studium Generale: Wat drijft Poetin?
DTSTAMP:20250718T071928Z
LAST-MODIFIED:20250718T071928Z
LOCATION:Academiegebouw (Aula)
DESCRIPTION:Wie is er bang voor Poetin?
URL;TYPE=URI:https://www.sg.uu.nl/agenda/2017/wat-drijft-poetin
END:VEVENT
END:VCALENDAR