BEGIN:VCALENDAR
VERSION:2.0
PRODID:-//Studium Generale Universiteit Utrecht//NONSGML sg.uu.nl//
METHOD:PUBLISH
CALSCALE:GREGORIAN
BEGIN:VEVENT
UID:event004135@sg.uu.nl
DTSTART;TZID=UTC;VALUE=DATE-TIME:20171128T180000
DTEND;TZID=UTC;VALUE=DATE-TIME:20171128T193000
SUMMARY:Studium Generale: Wat verdeelt het Midden-Oosten?
DTSTAMP:20250718T071926Z
LAST-MODIFIED:20250718T071926Z
LOCATION:Academiegebouw (Aula)
DESCRIPTION:Welke belangen verscheuren het Midden-Oosten?
URL;TYPE=URI:https://www.sg.uu.nl/agenda/2017/wat-verdeelt-het-midden-oosten
END:VEVENT
END:VCALENDAR