BEGIN:VCALENDAR
VERSION:2.0
PRODID:-//Studium Generale Universiteit Utrecht//NONSGML sg.uu.nl//
METHOD:PUBLISH
CALSCALE:GREGORIAN
BEGIN:VEVENT
UID:event004142@sg.uu.nl
DTSTART;TZID=UTC;VALUE=DATE-TIME:20160502T150000
DTEND;TZID=UTC;VALUE=DATE-TIME:20160502T171500
SUMMARY:Studium Generale: Welcome to Leith
DTSTAMP:20250717T091226Z
LAST-MODIFIED:20250717T091226Z
LOCATION:Filmtheater &#039;t Hoogt
DESCRIPTION:Spannende docu en nagesprek met een jurist. Wat zijn de grenzen van een democratie?
URL;TYPE=URI:https://www.sg.uu.nl/agenda/2016/welcome-leith
END:VEVENT
END:VCALENDAR