BEGIN:VCALENDAR
VERSION:2.0
PRODID:-//Studium Generale Universiteit Utrecht//NONSGML sg.uu.nl//
METHOD:PUBLISH
CALSCALE:GREGORIAN
BEGIN:VEVENT
UID:event004167@sg.uu.nl
DTSTART;TZID=UTC;VALUE=DATE-TIME:20221025T180000
DTEND;TZID=UTC;VALUE=DATE-TIME:20221025T193000
SUMMARY:Studium Generale: Yuval Noah Harari - Sapiens
DTSTAMP:20250717T091230Z
LAST-MODIFIED:20250717T091230Z
LOCATION:Bibliotheek Neude
DESCRIPTION:Welke krachten bepaalden de loop van de geschiedenis?
URL;TYPE=URI:https://www.sg.uu.nl/agenda/2022/yuval-noah-harari-sapiens
END:VEVENT
END:VCALENDAR