BEGIN:VCALENDAR
VERSION:2.0
PRODID:-//Studium Generale Universiteit Utrecht//NONSGML sg.uu.nl//
METHOD:PUBLISH
CALSCALE:GREGORIAN
BEGIN:VEVENT
UID:event004172@sg.uu.nl
DTSTART;TZID=UTC;VALUE=DATE-TIME:20191202T190000
DTEND;TZID=UTC;VALUE=DATE-TIME:20191202T203000
SUMMARY:Studium Generale: Zintuigen: het complete plaatje
DTSTAMP:20250717T091230Z
LAST-MODIFIED:20250717T091230Z
LOCATION:Anatomiegebouw
DESCRIPTION:Zintuigen werken intensief met elkaar samen. Hoe beïnvloeden je reuk, zicht en gehoor elkaar?
URL;TYPE=URI:https://www.sg.uu.nl/agenda/2019/zintuigen-het-complete-plaatje
END:VEVENT
END:VCALENDAR